BEGIN:VCALENDAR
VERSION:2.0
PRODID:-//Konzertkalender//München//EN
CALSCALE:GREGORIAN
METHOD:PUBLISH
BEGIN:VEVENT
UID:concert-11624@konzertkalender.de
DTSTART:20260426T140000Z
DTEND:20260426T160000Z
SUMMARY:Konzert
LOCATION:Scholastika\, Ledererstr. 5\, 80331 München\, München
DESCRIPTION:Die Philludiker e.V.
END:VEVENT
END:VCALENDAR